BEGIN:VCALENDAR
VERSION:2.0
PRODID:-//Squarespace Inc/Squarespace 6//v6//EN
BEGIN:VEVENT
UID:5b3c21271ae6cf89ccfac188@squarespace.com
DTSTAMP:20180811T003008Z
DTSTART:20180813T231500Z
DTEND:20180814T003000Z
SUMMARY:OPEN SPACE - Un-conferencing at Involve 2018 
GEO:-41.28958;174.777852
LOCATION:Renouf 1\, Michael Fowler Centre
END:VEVENT
END:VCALENDAR
