BEGIN:VCALENDAR
VERSION:2.0
PRODID:-//Squarespace Inc/Squarespace 6//v6//EN
BEGIN:VEVENT
UID:5b42d6502b6a28b390ccf3e8@squarespace.com
DTSTAMP:20180810T044952Z
DTSTART:20180814T021500Z
DTEND:20180814T033000Z
SUMMARY:SNAPSHOTS - Partnering with Youth
GEO:-41.28958;174.777852
LOCATION:Lion Harbour 1\, Michael Fowler Centre
END:VEVENT
END:VCALENDAR
