BEGIN:VCALENDAR
VERSION:2.0
PRODID:-//Squarespace Inc/Squarespace 6//v6//EN
BEGIN:VEVENT
UID:5b42d0798a922d4f1dd6d56e@squarespace.com
DTSTAMP:20180811T004237Z
DTSTART:20180813T231500Z
DTEND:20180814T003000Z
SUMMARY:SNAPSHOTS - Stories about Mental Health
GEO:-41.290788;174.777296
LOCATION:Zeal\, Level 1 James Smith Building Corner of Cuba and Manners Str
 eet\, Wellington 6011
END:VEVENT
END:VCALENDAR
