BEGIN:VCALENDAR
VERSION:2.0
PRODID:-//Squarespace Inc/Squarespace 6//v6//EN
BEGIN:VEVENT
UID:5b3c10f6575d1fd7a454a1cd@squarespace.com
DTSTAMP:20180810T044825Z
DTSTART:20180814T021500Z
DTEND:20180814T033000Z
SUMMARY:WORKSHOP - Southside 'til we die: Growing Polycultural leaders for 
 South Auckland
GEO:37.167565;-95.109964
LOCATION:Praxis - Front Room\, Level 2\, Anvil House\, 138-140 Wakefield St
 reet\, Wellington 6011
END:VEVENT
END:VCALENDAR
